BEGIN:VCALENDAR
PRODID:-//www.cityofliterature.co.nz//EN
VERSION:2.0
METHOD:PUBLISH
BEGIN:VEVENT
DTSTART;TZID=America/New_York:20160217T180000
DTEND;TZID=America/New_York:20160217T183000
URL:https://www.cityofliterature.co.nz/whats-on/the-little-box-of-operas-dido-and-aeneas/
SUMMARY:The Little Box of Operas: Dido and Aeneas
LOCATION:
DESCRIPTION:In anticipation of the opening of the New Zealand International Early Music Festival in Dunedin on 26th February, The Little Box of Operas proudly present a preview of their gala performance of Henry Purcell’s Dido and Aeneas.
Enjoy a snippet of this wonderful musical drama in full period costume.
Ground Floor, City Library
END:VEVENT
END:VCALENDAR