BEGIN:VCALENDAR
PRODID:-//www.cityofliterature.co.nz//EN
VERSION:2.0
METHOD:PUBLISH
BEGIN:VEVENT
DTSTART;TZID=America/New_York:20160302T173000
DTEND;TZID=America/New_York:20160302T
URL:https://www.cityofliterature.co.nz/whats-on/book-launch-unearthly-landscapes/
SUMMARY:Book Launch: Unearthly Landscapes
LOCATION:
DESCRIPTION:Otago University Press invites you to celebrate the launch of Unearthly Landscapes New Zealand’s early cemeteries, churchyards and urupā By Stephen Deed
University Book Shop, 378 Great King Street, DunedinRSVP: publicity@otago.ac.nz by Friday 26 February
END:VEVENT
END:VCALENDAR