BEGIN:VCALENDAR
PRODID:-//www.cityofliterature.co.nz//EN
VERSION:2.0
METHOD:PUBLISH
BEGIN:VEVENT
DTSTART;TZID=America/New_York:20160211T173000
DTEND;TZID=America/New_York:20160211T
URL:https://www.cityofliterature.co.nz/whats-on/reo-pepi-book-launch/
SUMMARY:Reo Pepi Book Launch
LOCATION:
DESCRIPTION:University Bookshop Otago and Reo Pepi are very pleased to invite you to the launch of the first series of bi-lingual books Reo Pepi have created especially for preschoolers.
Kanohi-My Face, Kākahu-Getting Dressed and Kararehe-Animals will all be available to buy on the night ($16.99 each), and there will be several book-based activities to try as well, suggestions for how to use these books in an educational setting and at home. Children are most welcome.
UBS Otago, 378 Great King St, DunedinRSVP to bronwynw@unibooks.co.nz or 03 477 6976 (not necessary to attend but very helpful for catering!)
END:VEVENT
END:VCALENDAR