BEGIN:VCALENDAR
PRODID:-//www.cityofliterature.co.nz//EN
VERSION:2.0
METHOD:PUBLISH
BEGIN:VEVENT
DTSTART;TZID=America/New_York:20160318T
DTEND;TZID=America/New_York:20160320T
URL:https://www.cityofliterature.co.nz/whats-on/seasonal-book-sale/
SUMMARY:Seasonal Book Sale
LOCATION:
DESCRIPTION:Bring your own bag and enjoy hunting for some great additions to your bookshelves at the Libraries’ latest booksale.Stock refreshed throughout the weekend, so there’ll be something new to browse throughout the sale. Items as priced. All bargain hunters welcome!Friday 18th March – Sunday 20th March (during library opening hours)Ground Floor, City Library
END:VEVENT
END:VCALENDAR