BEGIN:VCALENDAR
PRODID:-//www.cityofliterature.co.nz//EN
VERSION:2.0
METHOD:PUBLISH
BEGIN:VEVENT
DTSTART;TZID=America/New_York:20160225T180000
DTEND;TZID=America/New_York:20160225T
URL:https://www.cityofliterature.co.nz/whats-on/an-evening-with-peter-may/
SUMMARY:An Evening with Peter May
LOCATION:
DESCRIPTION:Dunedin Writers and Readers Festival and the Centre for Irish and Scottish Studies at the University of Otago are proud to present AN EVENING WITH Peter May. Hear the award-winning Scottish crime writer discuss his new bestseller, Coffin Road. Peter May is the million-selling author of The Lewis Trilogy and Runaway. His novel, The Blackhouse, won the US Barry Award for Best Mystery Novel in 2013. Entry Island was the 2014 Deanston Scottish Crime Book of the Year and the 2014 ITV Specsavers Crime Thriller Club Best Read of the Year.‘Peter May is an author I’d follow to the ends of the earth' (New York Times)
4th Floor | Dunedin City Library | Moray PlaceTickets $15, available from the University Book Shopwww.unibooks.co.nz for tickets
END:VEVENT
END:VCALENDAR