BEGIN:VCALENDAR
PRODID:-//www.cityofliterature.co.nz//EN
VERSION:2.0
METHOD:PUBLISH
BEGIN:VEVENT
DTSTART;TZID=America/New_York:20160421T123000
DTEND;TZID=America/New_York:20160421T130000
URL:https://www.cityofliterature.co.nz/whats-on/lunchtime-bites-niu-sila/
SUMMARY:Lunchtime Bites: Niu Sila
LOCATION:
DESCRIPTION:Sample the lastest play of the season from the Fortune Theatre over a hot cuppa, and go into the draw to win tickets to the show!
Written by two of New Zealand’s best comedy writers, Oscar Kightley and Dave Armstrong, this is the hilarious and touching story about a friendship that spans 40 years, two cultures and one street.
In 1970s suburban New Zealalnd, 6-year-old Ioane Tafioka, fresh off the boat from the Islands, moves in next door to Peter Burton. The pair instantly become the best of friends, but as they become teenagers they succumb to their stereotypical paths, drifting apart, until a chance reunion 20 years later forces them to confront their ghosts of years past.
Ground Floor, City Library
END:VEVENT
END:VCALENDAR