BEGIN:VCALENDAR
PRODID:-//www.cityofliterature.co.nz//EN
VERSION:2.0
METHOD:PUBLISH
BEGIN:VEVENT
DTSTART;TZID=America/New_York:20160310T180000
DTEND;TZID=America/New_York:20160310T190000
URL:https://www.cityofliterature.co.nz/whats-on/how-do-you-do-rare-book-collecting/
SUMMARY:How Do You Do...? Rare Book Collecting
LOCATION:
DESCRIPTION:A chance to hear how the owner of the largest second-hand bookshop in New Zealand, and the largest online bookstore in Australasia, hunts down his literary treasures.
Warwick Jordan has spent over 30 years as a second-hand bookseller, and developed Hard to Find Bookshops, which at one time ballooned into nine stores in five cities. He has also dabbled in printing, publishing over 30 authors in the late 1980s. He is now happily running the highly successful Hard to Find Books in central Dunedin.
Bookings Essential - Book now
Dunningham Suite, 4th Floor, Dunedin City Library
END:VEVENT
END:VCALENDAR