BEGIN:VCALENDAR
PRODID:-//www.cityofliterature.co.nz//EN
VERSION:2.0
METHOD:PUBLISH
BEGIN:VEVENT
DTSTART;TZID=America/New_York:20160207T140000
DTEND;TZID=America/New_York:20160207T143000
URL:https://www.cityofliterature.co.nz/whats-on/new-calendar-event-11/
SUMMARY:Once Upon A Sunday: Treaty Tales
LOCATION:
DESCRIPTION:Join us in celebrating Waitangi Day, with local storyteller Kaitrin McMullan.Bring along something from your culture to share with us!For children of all ages.
Children’s Storypit, City Library
END:VEVENT
END:VCALENDAR