BEGIN:VCALENDAR
PRODID:-//www.cityofliterature.co.nz//EN
VERSION:2.0
METHOD:PUBLISH
BEGIN:VEVENT
DTSTART;TZID=America/New_York:20160128T123000
DTEND;TZID=America/New_York:20160128T130000
URL:https://www.cityofliterature.co.nz/whats-on/lunchtime-bites-kings-of-the-gym/
SUMMARY:Lunchtime Bites: Kings of the Gym
LOCATION:
DESCRIPTION:Sample the lastest play of the season from the Fortune Theatre over a hot cuppa, and go into the draw to win tickets to the show!Ambitious new principal Viv Cleaver wants to clean up low-decile Hautapu High School. Her big problem is the PE department, run by gambling couch potato Laurie Connor. When a super smart sporty new teacher joins the school, Viv sees her chance to make some changes.This funny, feel-good play, directed by Patrick Davies, is the perfect start to the Fortune year.Ground Floor, City LibraryFREE
END:VEVENT
END:VCALENDAR