BEGIN:VCALENDAR
PRODID:-//www.cityofliterature.co.nz//EN
VERSION:2.0
METHOD:PUBLISH
BEGIN:VEVENT
DTSTART;TZID=America/New_York:20151210T170000
DTEND;TZID=America/New_York:20151210T193000
URL:https://www.cityofliterature.co.nz/whats-on/annual-booklovers-evening/
SUMMARY:Annual Booklover's Evening
LOCATION:
DESCRIPTION:We are very pleased to wish you a Merry Christmas and invite you to our Annual Booklover’s Evening
15% off all full-price itemsSpecialist booksellersFree gift-wrappingDelicious nibbles and drinks.
There is often quite an excited intelligence of booklovers 5pm-6pm so come a little later for relaxed browsing, there are still plenty of books (and nibbles)!
University Book Shop Otago, 378 Great King St, DunedinRSVP: to bronwynw@unibooks.co.nz (very helpful for catering, not necessary to attend)
END:VEVENT
END:VCALENDAR