BEGIN:VCALENDAR
PRODID:-//www.cityofliterature.co.nz//EN
VERSION:2.0
METHOD:PUBLISH
BEGIN:VEVENT
DTSTART;TZID=America/New_York:20151125T173000
DTEND;TZID=America/New_York:20151125T
URL:https://www.cityofliterature.co.nz/whats-on/book-launch-sexual-cultures-in-aotearoa-new-zealand-education/
SUMMARY:Book Launch: Sexual Cultures in Aotearoa New Zealand Education
LOCATION:
DESCRIPTION:Otago University Press and University Book Shop are very pleased to invite you to celebrate the launch of Sexual Cultures in Aotearoa New Zealand Education, edited by Alexandra C. Gunn and Lee A. Smith.
Where: University Book Shop, 378 Great King St, DunedinRSVP: publicity@otago.ac.nz
END:VEVENT
END:VCALENDAR