BEGIN:VCALENDAR
PRODID:-//www.cityofliterature.co.nz//EN
VERSION:2.0
METHOD:PUBLISH
BEGIN:VEVENT
DTSTART;TZID=America/New_York:20151205T
DTEND;TZID=America/New_York:20151208T
URL:https://www.cityofliterature.co.nz/whats-on/seacliff-demise-of-ward-5/
SUMMARY:Seacliff: Demise of Ward 5
LOCATION:
DESCRIPTION:Seacliff: Demise of Ward 5
On December 8th 1942, Ward 5 of Seacliff Lunatic Asylum, near Dunedin, burnt down. 37 female patients inside the ward, perished.
Seacliff: Demise of Ward 5 is a musical play which intertwines a fictional story of the lives of some of the patients, and the factual events of the tragic fire.
Written and directed by New Zealand's Got Talent Winner Renee Maurice, this is the play's world premiere - for 4 performances only.
Sat 5 Dec 2015, 7:30pm–9:30pm
Sun 6 Dec 2015, 2:00pm–4:30pm
Sun 6 Dec 2015, 7:30pm–9:30pm
Tue 8 Dec 2015, 7:30pm–9:30pm
Adult: $30.00 Concession: $25.00
http://www.eventfinda.co.nz/2015/seacliff-demise-of-ward-5/dunedin
 
END:VEVENT
END:VCALENDAR