BEGIN:VCALENDAR
PRODID:-//www.cityofliterature.co.nz//EN
VERSION:2.0
METHOD:PUBLISH
BEGIN:VEVENT
DTSTART;TZID=America/New_York:20150608T180000
DTEND;TZID=America/New_York:20150608T180000
URL:https://www.cityofliterature.co.nz/whats-on/nzsa-writers-salon-3/
SUMMARY:  NZSA Writers Salon
LOCATION:
DESCRIPTION:The theme for the Writers Salon in June will be Flash Fiction (NZ Flash Fiction day is the 22nd). We will feature eight writers reading work of 500 words. If you wish to read please send an email to nzsaotagosouthland@gmail.com before May 29.
The only proviso for your contribution is that it must include the word flash in one of these forms:
FlashFlashedFlasherFlashestFlashingFlashyFlashierFlashiest
All welcome
The Thistle Café and Bar, 23 The Octagon
END:VEVENT
END:VCALENDAR